BEGIN:VCALENDAR
VERSION:2.0
PRODID:-//European Physical Society - ECPv6.15.17.1//NONSGML v1.0//EN
CALSCALE:GREGORIAN
METHOD:PUBLISH
X-WR-CALNAME:European Physical Society
X-ORIGINAL-URL:https://eps.org
X-WR-CALDESC:Events for European Physical Society
REFRESH-INTERVAL;VALUE=DURATION:PT1H
X-Robots-Tag:noindex
X-PUBLISHED-TTL:PT1H
BEGIN:VTIMEZONE
TZID:Europe/Paris
BEGIN:DAYLIGHT
TZOFFSETFROM:+0100
TZOFFSETTO:+0200
TZNAME:CEST
DTSTART:20250330T010000
END:DAYLIGHT
BEGIN:STANDARD
TZOFFSETFROM:+0200
TZOFFSETTO:+0100
TZNAME:CET
DTSTART:20251026T010000
END:STANDARD
BEGIN:DAYLIGHT
TZOFFSETFROM:+0100
TZOFFSETTO:+0200
TZNAME:CEST
DTSTART:20260329T010000
END:DAYLIGHT
BEGIN:STANDARD
TZOFFSETFROM:+0200
TZOFFSETTO:+0100
TZNAME:CET
DTSTART:20261025T010000
END:STANDARD
BEGIN:DAYLIGHT
TZOFFSETFROM:+0100
TZOFFSETTO:+0200
TZNAME:CEST
DTSTART:20270328T010000
END:DAYLIGHT
BEGIN:STANDARD
TZOFFSETFROM:+0200
TZOFFSETTO:+0100
TZNAME:CET
DTSTART:20271031T010000
END:STANDARD
END:VTIMEZONE
BEGIN:VEVENT
DTSTART;TZID=Europe/Paris:20260420T080000
DTEND;TZID=Europe/Paris:20260424T170000
DTSTAMP:20260422T014720
CREATED:20250922T093609Z
LAST-MODIFIED:20251225T101031Z
UID:13167-1776672000-1777050000@eps.org
SUMMARY:Nano and Microscale Heat Transfer IX (NMHT)
DESCRIPTION:Welcome to the NMHT 2026 Conference!\n\nNMHT IX Nano and Microscale Heat Transfer\n20 – 24 April 2026\, Berlin\, Germany\nhttps://premc.org/nmht2026\n\n\nThis meeting gathers researchers working on heat transport on the micro-scale and below\,  bridging fundamental physics with nano-devices. It is recognised by the European Physical Society and will feature Eurotherm Seminar no. 120 .\nTopics include heat transport in 2D materials\, metamaterials\, and interfaces – nano/microscale thermal metrology – low-temperature systems – near-field thermal radiation – molecular junctions – ultrafast photo-induced heat exchange – quantum effects in heat transport – quantum thermodynamics.\n\nLocal organising committee: S. Age Biehs (Oldenburg)\, C. Henkel (Potsdam)\, K. Termentzidis (Lyon).\n\nDeadline for abstracts: 09  January 2026. \n\nCheck our line-up of invited speakers and consider presenting your recent research. All contributions will be peer-reviewed by the scientific committee.
URL:https://eps.org/event/nano-and-microscale-heat-transfer-ix-nmht/
LOCATION:Berlin\, Germany\, Germany
CATEGORIES:Recognised Conference
ATTACH;FMTTYPE=image/jpeg:https://eps.org/wp-content/uploads/2025/09/Capture-decran-2025-09-22-a-11.30.17.jpg
END:VEVENT
END:VCALENDAR