BEGIN:VCALENDAR
VERSION:2.0
PRODID:-//European Physical Society - ECPv6.15.17.1//NONSGML v1.0//EN
CALSCALE:GREGORIAN
METHOD:PUBLISH
X-ORIGINAL-URL:https://eps.org
X-WR-CALDESC:Events for European Physical Society
REFRESH-INTERVAL;VALUE=DURATION:PT1H
X-Robots-Tag:noindex
X-PUBLISHED-TTL:PT1H
BEGIN:VTIMEZONE
TZID:Europe/Paris
BEGIN:DAYLIGHT
TZOFFSETFROM:+0100
TZOFFSETTO:+0200
TZNAME:CEST
DTSTART:20250330T010000
END:DAYLIGHT
BEGIN:STANDARD
TZOFFSETFROM:+0200
TZOFFSETTO:+0100
TZNAME:CET
DTSTART:20251026T010000
END:STANDARD
BEGIN:DAYLIGHT
TZOFFSETFROM:+0100
TZOFFSETTO:+0200
TZNAME:CEST
DTSTART:20260329T010000
END:DAYLIGHT
BEGIN:STANDARD
TZOFFSETFROM:+0200
TZOFFSETTO:+0100
TZNAME:CET
DTSTART:20261025T010000
END:STANDARD
BEGIN:DAYLIGHT
TZOFFSETFROM:+0100
TZOFFSETTO:+0200
TZNAME:CEST
DTSTART:20270328T010000
END:DAYLIGHT
BEGIN:STANDARD
TZOFFSETFROM:+0200
TZOFFSETTO:+0100
TZNAME:CET
DTSTART:20271031T010000
END:STANDARD
END:VTIMEZONE
BEGIN:VEVENT
DTSTART;TZID=Europe/Paris:20260427T080000
DTEND;TZID=Europe/Paris:20260501T170000
DTSTAMP:20260421T185037
CREATED:20251209T130111Z
LAST-MODIFIED:20260213T095505Z
UID:13683-1777276800-1777654800@eps.org
SUMMARY:2nd Summer School of the European Solar Physics Division
DESCRIPTION:The European solar physics division board (ESPD) is organizing a 2nd Summer School in its series to be held on 27 April – 1 May 2026 in Dubrovnik\, Croatia covering diverse topics in solar physics. The applications are now open and the submission deadline is January 31st 2026. The school will be in hybrid form. Due to capacity limits of the classrooms and the dormitory the number of students attending in-person is limited to 30-40 students. For further details please visit the school webpage:https://oh.geof.unizg.hr/index.php/en/meetings/espd-school-2026 \nThe ESPD is a division of the European Physical Society (EPS\,https://eps.org/who-we-are/members/divisions-and-groups/european-solar-physics-division/) that represents and provides a forum for European scientists. \nApplication form available on the school website. \nRegistration fees: 150 EUR in-person\, 50 EUR online \nApplication opens: 2nd December 2025 \nApplication closes: 31 January 2026 \nApplication decision sent: 15 February 2026 \nRegistration opens (for selected applicants only): 1st March 2026
URL:https://eps.org/event/2nd-summer-school-of-the-european-solar-physics-division/
LOCATION:Dubrovnik\, Croatia\, Croatia (Local Name: Hrvatska)
CATEGORIES:Europhysics Conference
ATTACH;FMTTYPE=image/jpeg:https://eps.org/wp-content/uploads/2025/12/espd-summer-school-2026.jpg
END:VEVENT
END:VCALENDAR