BEGIN:VCALENDAR
VERSION:2.0
PRODID:-//European Physical Society - ECPv6.15.17.1//NONSGML v1.0//EN
CALSCALE:GREGORIAN
METHOD:PUBLISH
X-ORIGINAL-URL:https://eps.org
X-WR-CALDESC:Events for European Physical Society
REFRESH-INTERVAL;VALUE=DURATION:PT1H
X-Robots-Tag:noindex
X-PUBLISHED-TTL:PT1H
BEGIN:VTIMEZONE
TZID:Europe/Paris
BEGIN:DAYLIGHT
TZOFFSETFROM:+0100
TZOFFSETTO:+0200
TZNAME:CEST
DTSTART:20250330T010000
END:DAYLIGHT
BEGIN:STANDARD
TZOFFSETFROM:+0200
TZOFFSETTO:+0100
TZNAME:CET
DTSTART:20251026T010000
END:STANDARD
BEGIN:DAYLIGHT
TZOFFSETFROM:+0100
TZOFFSETTO:+0200
TZNAME:CEST
DTSTART:20260329T010000
END:DAYLIGHT
BEGIN:STANDARD
TZOFFSETFROM:+0200
TZOFFSETTO:+0100
TZNAME:CET
DTSTART:20261025T010000
END:STANDARD
BEGIN:DAYLIGHT
TZOFFSETFROM:+0100
TZOFFSETTO:+0200
TZNAME:CEST
DTSTART:20270328T010000
END:DAYLIGHT
BEGIN:STANDARD
TZOFFSETFROM:+0200
TZOFFSETTO:+0100
TZNAME:CET
DTSTART:20271031T010000
END:STANDARD
END:VTIMEZONE
BEGIN:VEVENT
DTSTART;TZID=Europe/Paris:20260515T080000
DTEND;TZID=Europe/Paris:20260516T170000
DTSTAMP:20260421T201319
CREATED:20260210T081530Z
LAST-MODIFIED:20260217T132038Z
UID:14214-1778832000-1778950800@eps.org
SUMMARY:EPS Council Meeting & EPS Young Minds Leadership Meeting
DESCRIPTION:This year the EPS Council Meetingwill include parallel sessions within the EPS Young Minds Leadership Meeting\, offering a unique opportunity for interaction and exchange. This joint format aims to foster dialogue between representatives of national physical societies and young physics students and early-career researchers\, giving Council representatives the opportunity to meet Young Minds members and present the activities and initiatives organised by their societies\nThe events will take place on 15-16 May 2026\, Vilnius\, Lithuania.
URL:https://eps.org/event/14214/
LOCATION:Vilnius\, Lithuania\, Vilnius\, Lithuania
CATEGORIES:Special events
ATTACH;FMTTYPE=image/jpeg:https://eps.org/wp-content/uploads/2026/02/eps-council-2026.jpg
END:VEVENT
BEGIN:VEVENT
DTSTART;TZID=Europe/Paris:20260515T080000
DTEND;TZID=Europe/Paris:20260518T170000
DTSTAMP:20260421T201319
CREATED:20260410T080005Z
LAST-MODIFIED:20260410T080005Z
UID:14521-1778832000-1779123600@eps.org
SUMMARY:Lights of Tuscany 2026 — International Student Event on Photonics & Optics
DESCRIPTION:Applications are open for Lights of Tuscany 2026 (LoT26)\, an international student-led event organised by the Italian Association of Physics Students (AISF — International Association of Physics Students Territorial Committee of Italy). \nLoT26 brings together 40 physics students and PhD candidates from around the world for five days of science\, research\, and culture in Pisa and Florence\, Italy\, on the occasion of the International Day of Light (16 May 2026). \nThe programme includes research lab visits (Universities of Pisa and Florence\, LENS\, CNR-INO\, EGO Virgo\, INAF Arcetri Astrophysical Observatory)\, seminars and networking sessions with researchers and PhD candidates from leading local institutions\, and cultural activities across Tuscany. \nFocus areas: photonics and quantum optics. Applications showcased include condensed matter physics\, biophysics\, and astrophysics. \nApplications are open until 21 April 2026. All information\, including the programme\, speakers\, and application criteria\, is available at: ai-sf.it/lot \nFor any enquiries: lot@ai-sf.it
URL:https://eps.org/event/lights-of-tuscany-2026-international-student-event-on-photonics-optics/
LOCATION:Pisa and Florence\, Italy\, Italy
CATEGORIES:Special events
ATTACH;FMTTYPE=image/png:https://eps.org/wp-content/uploads/2026/04/Capture-decran-2026-04-10-a-09.57.39.png
END:VEVENT
END:VCALENDAR