BEGIN:VCALENDAR
VERSION:2.0
PRODID:-//European Physical Society - ECPv6.15.17.1//NONSGML v1.0//EN
CALSCALE:GREGORIAN
METHOD:PUBLISH
X-WR-CALNAME:European Physical Society
X-ORIGINAL-URL:https://eps.org
X-WR-CALDESC:Events for European Physical Society
REFRESH-INTERVAL;VALUE=DURATION:PT1H
X-Robots-Tag:noindex
X-PUBLISHED-TTL:PT1H
BEGIN:VTIMEZONE
TZID:Europe/Paris
BEGIN:DAYLIGHT
TZOFFSETFROM:+0100
TZOFFSETTO:+0200
TZNAME:CEST
DTSTART:20250330T010000
END:DAYLIGHT
BEGIN:STANDARD
TZOFFSETFROM:+0200
TZOFFSETTO:+0100
TZNAME:CET
DTSTART:20251026T010000
END:STANDARD
BEGIN:DAYLIGHT
TZOFFSETFROM:+0100
TZOFFSETTO:+0200
TZNAME:CEST
DTSTART:20260329T010000
END:DAYLIGHT
BEGIN:STANDARD
TZOFFSETFROM:+0200
TZOFFSETTO:+0100
TZNAME:CET
DTSTART:20261025T010000
END:STANDARD
BEGIN:DAYLIGHT
TZOFFSETFROM:+0100
TZOFFSETTO:+0200
TZNAME:CEST
DTSTART:20270328T010000
END:DAYLIGHT
BEGIN:STANDARD
TZOFFSETFROM:+0200
TZOFFSETTO:+0100
TZNAME:CET
DTSTART:20271031T010000
END:STANDARD
END:VTIMEZONE
BEGIN:VEVENT
DTSTART;VALUE=DATE:20260621
DTEND;VALUE=DATE:20260626
DTSTAMP:20260421T231047
CREATED:20260402T082303Z
LAST-MODIFIED:20260402T082755Z
UID:14465-1782000000-1782431999@eps.org
SUMMARY:EGAS 57 — 57th European Conference on Atomic Systems | 21-25 June 2026\, Toruń
DESCRIPTION:The EGAS conference is an annual event with a long tradition\, organized since 1969 by the European Group on Atomic Systems of the European Physical Society (EPS). Recent editions took place in Granada\, Spain 2024\, Strasbourg\, France 2023\, Vilnius\, Lithuania 2022\, Florence\, Italy 2019. The International Scientific Programme Committee is constructed by the EGAS board\, a section of the Atomic\, Molecular\, and Optical Physics Division (AMOPD) of the EPS. EGAS typically attracts 200 participants. \nEGAS57 will take place at the award-winning Cultural and Congress Centre Jordanki\, situated at the very heart of Toruń\, Poland. The city is an economic\, cultural\, scientific\, academic and tourist centre\, whose Old Town was enrolled on the UNESCO World Heritage List in 1997. The venue features state-of-the-art facilities and ample space for presentations\, discussions\, and networking sessions. It includes a concert hall\, a chamber hall\, modular conference rooms\, and a restaurant\, as well as space. Industry exhibitions will be held in spacious areas alongside coffee breaks and poster sessions—ensuring excellent visibility and interaction with conference participants. \nThe conference is organized by Nicolaus Copernicus University in Toruń\, one of Poland’s leading research institutions. Its Institute of Physics is a recognized hub for Atomic\, Molecular\, and Optical Physics\, internationally renowned for its contributions to high-precision spectroscopy and quantum optics. It is home to the National Laboratory of FAMO (Atomic\, Molecular and Optical Physics) and the Quantum Optics Centre\, both of which are at the forefront of experimental research in the field. The university is also renowned for its pioneering research across various disciplines of physics\, including pioneering contributions to optical coherence tomography\, quantum information applications\, and nanophotonics. The location and the local expertise create an ideal scientific environment for EGAS and we look forward to welcoming scientists from across Europe and beyond for productive and engaging exchange of scientific breakthroughs and innovative ideas. \n\nScientific topics at EGAS\n\nFundamental physics\nCold gases and quantum fluids\nQuantum optics\, quantum information and quantum simulation\nFrequency and time domain spectroscopy and metrology\nApplications to astrophysics\, plasma physics\, biophysics\, clusters\nAtom-like systems\n\n\n\nImportant Dates\nRegistration deadlines:\n\n\nregular registration: June 9th\, 2026\n\n\nRegister now!\n\n\nSubmission deadlines:\n\n\ncontributed talk submissions: April 7\, 2026\npot-deadline poster submissions: June 1\, 2026\n\n\n\nThe acceptance of abstract and selection of contributed talks will be informed by April 27\, 2026 \nWelcome reception: June 21\, 2026 \n\nDownload abstract template and submit now!
URL:https://eps.org/event/egas-57-57th-european-conference-on-atomic-systems-21-25-june-2026-torun/
LOCATION:Toruń\, Poland\, Toruń\, Poland
CATEGORIES:Special events
ATTACH;FMTTYPE=image/png:https://eps.org/wp-content/uploads/2026/04/EGAS-57-.png
END:VEVENT
END:VCALENDAR