BEGIN:VCALENDAR
VERSION:2.0
PRODID:-//European Physical Society - ECPv6.15.17.1//NONSGML v1.0//EN
CALSCALE:GREGORIAN
METHOD:PUBLISH
X-ORIGINAL-URL:https://eps.org
X-WR-CALDESC:Events for European Physical Society
REFRESH-INTERVAL;VALUE=DURATION:PT1H
X-Robots-Tag:noindex
X-PUBLISHED-TTL:PT1H
BEGIN:VTIMEZONE
TZID:Europe/Paris
BEGIN:DAYLIGHT
TZOFFSETFROM:+0100
TZOFFSETTO:+0200
TZNAME:CEST
DTSTART:20250330T010000
END:DAYLIGHT
BEGIN:STANDARD
TZOFFSETFROM:+0200
TZOFFSETTO:+0100
TZNAME:CET
DTSTART:20251026T010000
END:STANDARD
BEGIN:DAYLIGHT
TZOFFSETFROM:+0100
TZOFFSETTO:+0200
TZNAME:CEST
DTSTART:20260329T010000
END:DAYLIGHT
BEGIN:STANDARD
TZOFFSETFROM:+0200
TZOFFSETTO:+0100
TZNAME:CET
DTSTART:20261025T010000
END:STANDARD
BEGIN:DAYLIGHT
TZOFFSETFROM:+0100
TZOFFSETTO:+0200
TZNAME:CEST
DTSTART:20270328T010000
END:DAYLIGHT
BEGIN:STANDARD
TZOFFSETFROM:+0200
TZOFFSETTO:+0100
TZNAME:CET
DTSTART:20271031T010000
END:STANDARD
END:VTIMEZONE
BEGIN:VEVENT
DTSTART;TZID=Europe/Paris:20260706T080000
DTEND;TZID=Europe/Paris:20260710T170000
DTSTAMP:20260421T231209
CREATED:20260220T090128Z
LAST-MODIFIED:20260220T095614Z
UID:14323-1783324800-1783702800@eps.org
SUMMARY:SigmaPhi (International Conference on Statistical Physics)
DESCRIPTION:The 2026 edition of the SigmaPhi International Conference on Statistical Physics which will be held in Kolymbari\, Crete\, Greece on July 6-10\, 2026. \nThe conference venue will be the Avra Imperial Hotel. Updated information can be found at the Conference website.\nAs in its previous editions\, the Conference will cover all the fields of Statistical Physics. The abstracts of the papers to be presented in the Conference  (Main Conference\, Workshops\, or Special Sections)\, can be submitted by using the page Abstract Submission of the conference website. \nThe summer board meeting of the European Physical Society – Statistical and Nonlinear Physics Division (EPS-SNP) will be hosted by the Conference. \nThe conference venue will be the Avra Imperial Hotel. Updated information can be found at the Conference website.
URL:https://eps.org/event/sigmaphi-international-conference-on-statistical-physics/
LOCATION:Kolymbari\, Crete\, Greece\, Kolymbari\, Crete\, Greece
CATEGORIES:Special events
ATTACH;FMTTYPE=image/png:https://eps.org/wp-content/uploads/2026/02/International_Conference_statistical_physics.png
END:VEVENT
BEGIN:VEVENT
DTSTART;TZID=Europe/Paris:20260707T080000
DTEND;TZID=Europe/Paris:20260711T170000
DTSTAMP:20260421T231209
CREATED:20250911T070125Z
LAST-MODIFIED:20250911T070125Z
UID:13085-1783411200-1783789200@eps.org
SUMMARY:ESCAMPIG 2026 - Europhysics Conference on the Atomic and Molecular Physics of Ionized Gases
DESCRIPTION:Please accept our warm and friendly invitation to attend the 27th Europhysics Conference on Atomic and Molecular Physics of Ionized Gases (ESCAMPIG). \nThe conference will be organized under the auspices of Instituto de Plasmas e Fusão Nuclear (IPFN) and Universidade da Madeira (UMa).\nThe conference will take place in the city of Funchal on the Madeira Congress Centre between July 7th and 11th\, 2026. \nIf you have any queries\, please send email with the link .
URL:https://eps.org/event/escampig-2026-europhysics-conference-on-the-atomic-and-molecular-physics-of-ionized-gases/
LOCATION:Funchal\, Madeira\, Portugal\, Funchal\, Madeira\, Portugal
CATEGORIES:Recognised Conference
ATTACH;FMTTYPE=image/png:https://eps.org/wp-content/uploads/2025/09/Capture-decran-2025-09-11-a-08.54.14.png
END:VEVENT
END:VCALENDAR