BEGIN:VCALENDAR
VERSION:2.0
PRODID:-//European Physical Society - ECPv6.15.17.1//NONSGML v1.0//EN
CALSCALE:GREGORIAN
METHOD:PUBLISH
X-WR-CALNAME:European Physical Society
X-ORIGINAL-URL:https://eps.org
X-WR-CALDESC:Events for European Physical Society
REFRESH-INTERVAL;VALUE=DURATION:PT1H
X-Robots-Tag:noindex
X-PUBLISHED-TTL:PT1H
BEGIN:VTIMEZONE
TZID:Europe/Paris
BEGIN:DAYLIGHT
TZOFFSETFROM:+0100
TZOFFSETTO:+0200
TZNAME:CEST
DTSTART:20250330T010000
END:DAYLIGHT
BEGIN:STANDARD
TZOFFSETFROM:+0200
TZOFFSETTO:+0100
TZNAME:CET
DTSTART:20251026T010000
END:STANDARD
BEGIN:DAYLIGHT
TZOFFSETFROM:+0100
TZOFFSETTO:+0200
TZNAME:CEST
DTSTART:20260329T010000
END:DAYLIGHT
BEGIN:STANDARD
TZOFFSETFROM:+0200
TZOFFSETTO:+0100
TZNAME:CET
DTSTART:20261025T010000
END:STANDARD
BEGIN:DAYLIGHT
TZOFFSETFROM:+0100
TZOFFSETTO:+0200
TZNAME:CEST
DTSTART:20270328T010000
END:DAYLIGHT
BEGIN:STANDARD
TZOFFSETFROM:+0200
TZOFFSETTO:+0100
TZNAME:CET
DTSTART:20271031T010000
END:STANDARD
END:VTIMEZONE
BEGIN:VEVENT
DTSTART;TZID=Europe/Paris:20260622T080000
DTEND;TZID=Europe/Paris:20260626T170000
DTSTAMP:20260424T172525
CREATED:20260424T135805Z
LAST-MODIFIED:20260424T135837Z
UID:14592-1782115200-1782493200@eps.org
SUMMARY:PHYSICS OF MAGNETISM 2026 (PM'26)
DESCRIPTION:The European Conference PHYSICS OF MAGNETISM 2026 (PM’26) will be held on June 22-26\nin Poznań\, Poland. The current event is going to be the eighteenth in a series which started in 1975.\nThe conference aims to be an international forum for the presentation and discussion of novel scientific\nideas in the field of broadly understood magnetism and magnetic materials. Accordingly\, the 2026 edition\nboasts a very wide scope of topics ranging from the fundamental research to applications. \nPM’26 is organized jointly by the Institute of Molecular Physics\, Polish Academy of Sciences\,\nand the Faculty of Physics and Astronomy\, Adam Mickiewicz University\, Poznań. \nOn behalf of the Organizing Committee\, we cordially invite you to join us\nin Poznań for this special anniversary edition of the Physics of Magnetism conference. \nWith best regards\,\nPiotr Kuświk\nIreneusz Weymann\nChairs of PM’26
URL:https://eps.org/event/physics-of-magnetism-2026-pm26/
LOCATION:Poznań\, Poland\, Poland
CATEGORIES:Recognised Conference
ATTACH;FMTTYPE=image/jpeg:https://eps.org/wp-content/uploads/2026/04/PM26.jpg
END:VEVENT
END:VCALENDAR