BEGIN:VCALENDAR
VERSION:2.0
PRODID:-//European Physical Society - ECPv6.15.17.1//NONSGML v1.0//EN
CALSCALE:GREGORIAN
METHOD:PUBLISH
X-ORIGINAL-URL:https://eps.org
X-WR-CALDESC:Events for European Physical Society
REFRESH-INTERVAL;VALUE=DURATION:PT1H
X-Robots-Tag:noindex
X-PUBLISHED-TTL:PT1H
BEGIN:VTIMEZONE
TZID:Europe/Paris
BEGIN:DAYLIGHT
TZOFFSETFROM:+0100
TZOFFSETTO:+0200
TZNAME:CEST
DTSTART:20250330T010000
END:DAYLIGHT
BEGIN:STANDARD
TZOFFSETFROM:+0200
TZOFFSETTO:+0100
TZNAME:CET
DTSTART:20251026T010000
END:STANDARD
BEGIN:DAYLIGHT
TZOFFSETFROM:+0100
TZOFFSETTO:+0200
TZNAME:CEST
DTSTART:20260329T010000
END:DAYLIGHT
BEGIN:STANDARD
TZOFFSETFROM:+0200
TZOFFSETTO:+0100
TZNAME:CET
DTSTART:20261025T010000
END:STANDARD
BEGIN:DAYLIGHT
TZOFFSETFROM:+0100
TZOFFSETTO:+0200
TZNAME:CEST
DTSTART:20270328T010000
END:DAYLIGHT
BEGIN:STANDARD
TZOFFSETFROM:+0200
TZOFFSETTO:+0100
TZNAME:CET
DTSTART:20271031T010000
END:STANDARD
END:VTIMEZONE
BEGIN:VEVENT
DTSTART;TZID=Europe/Paris:20260802T080000
DTEND;TZID=Europe/Paris:20260807T170000
DTSTAMP:20260422T015556
CREATED:20251024T124948Z
LAST-MODIFIED:20251211T080301Z
UID:13399-1785657600-1786122000@eps.org
SUMMARY:25th International Conference on Ultrafast Phenomena (UP2026)
DESCRIPTION:Welcome to UP2026 – the XXIV International Conference on Ultrafast Phenomena\nWe are delighted to welcome you to UP2026\, the 25th edition of the International Conference on Ultrafast Phenomena\, to be held in Sapporo\, Hokkaido\, Japan\, from August 2 to 7\, 2026. The conference will take place at the Sapporo Convention Centre\, conveniently located in the heart of the city. This marks the fourth time the conference is hosted in Japan\, following the most recent edition in Okinawa in 2014. \nThe Ultrafast Phenomena Conference series began in 1976 and is held every two years. It is widely recognized as the premier international forum for gathering the community of scientists and engineers working in research and technology related to ultrafast phenomena. It brings together atomic\, molecular\, and condensed matter physicists\, physical chemists\, biophysicists\, and scientists developing new tools\, methodologies and techniques\, all working on the science of ultrafast phenomena. These phenomena cover the time scales ranging from picoseconds (1 ps = 10-12 s) to hundreds of attoseconds (1 as = 10-18 s). \nThe regular online paper submission system is now open.\nThe deadline to submit papers is January 31\, 2026\, 23:59 JST Tokyo time. No further extension will be possible. \nIn the recent past\, the field of ultrafast phenomena has moved ahead in a breathtaking fashion\, thanks in part\, to the development of new laser-based as well as accelerator-based sources of ultrashort pulses of electrons and light\, such as high-harmonic generation\, few-cycle optical pulses\, sources of short wavelength radiation such as X-ray free electron lasers. The spectral range of ultrashort pulses of radiation has been extended to the long wavelength range such as Terahertz radiation\, and the short wavelength range such as vacuum-ultraviolet and the soft and hard X-ray domains. Together with the development of new methodologies\, e.g.\, multidimensional spectroscopies\, THz spectroscopy\, electron-based (EELS\, PINEM\, UED\, etc.) and X-ray-based techniques such as serial femtosecond coherent diffractive imaging\, these great leaps forward are delivering an impressive degree of insight into phenomena both within atoms and between atoms and up in scale to macromolecular systems. \nAt the same time\, the flexibility in methodologies opens perspectives for major applications in the fields of solar energy\, molecular electronics\, optoelectronic devices\, biomimetic devices\, etc. Finally\, all this is accompanied by an improvement in theoretical models\, strongly supported by the increase in computational power\, which are indispensable for our understanding of phenomena on such ultrafast time scales. \nSapporo\, one of Japan’s largest and most vibrant cities\, is nestled in the northern island of Hokkaido. It offers a unique blend of modern amenities\, rich culture\, and stunning natural landscapes—an ideal setting for this exciting scientific gathering. We hope you will take time to experience the distinct culture\, natural beauty\, and refreshing climate that Sapporo and Hokkaido have to offer during the summer season. \nWe look forward to welcoming you to Sapporo and to UP2026—an exciting week of cutting-edge science\, meaningful discussions\, and memorable experiences.\nSee you in Sapporo! \n\nElisabetta Collini (General Chair)\nAkiyoshi Hishikawa (General Chair)\nAmber Krummel (Program Chair)\nEiji J. Takahashi (Program Chair)
URL:https://eps.org/event/24th-international-conference-on-ultrafast-phenomena-up2026/
LOCATION:Sapporo\, Sapporo\, Japan
CATEGORIES:Special events
ATTACH;FMTTYPE=image/png:https://eps.org/wp-content/uploads/2025/10/UP2026_resized_600x400.png
END:VEVENT
BEGIN:VEVENT
DTSTART;TZID=Europe/Paris:20260906T080000
DTEND;TZID=Europe/Paris:20260910T170000
DTSTAMP:20260422T015556
CREATED:20250915T143205Z
LAST-MODIFIED:20250918T074046Z
UID:13131-1788681600-1789059600@eps.org
SUMMARY:3rd Biology for Physics Conference - “Energy and Information in Living Matter”
DESCRIPTION:This conference will bring together leading scientists at the forefront of exploring how energy and information shape living systems. Over recent years\, their work has illuminated fundamental constraints of life\, from molecular machines to cells\, neural networks\, and developmental processes. Sessions will highlight cutting-edge topics including noise and information processing\, information–energy conversion\, and entropy production across biological scales. Alongside invited lectures\, the program features contributed talks and extensive poster sessions designed to foster lively discussion and collaboration. Special emphasis will be placed on interaction between young researchers and established leaders\, ensuring a dynamic and inspiring forum that connects ideas\, disciplines\, and generations.
URL:https://eps.org/event/3rd-biology-for-physics-conference-energy-and-information-in-living-matter/
LOCATION:Barcelona\, Spain\, Spain
CATEGORIES:Europhysics Conference
ATTACH;FMTTYPE=image/jpeg:https://eps.org/wp-content/uploads/2025/09/Biology-for-physics_2.jpg
END:VEVENT
BEGIN:VEVENT
DTSTART;TZID=Europe/Paris:20260914T080000
DTEND;TZID=Europe/Paris:20260918T170000
DTSTAMP:20260422T015556
CREATED:20260331T114118Z
LAST-MODIFIED:20260331T114654Z
UID:14452-1789372800-1789750800@eps.org
SUMMARY:XVIII International Conference on Resistive Plate Chambers and Related Detectors (RPC 2026)
DESCRIPTION:RPC 2026 will take place from 14 to 18 September 2026 at the Rio de Janeiro State University (UERJ)\, in Rio de Janeiro\, Brazil. General information is available on the conference website and on the event page. This edition will be especially meaningful as it will mark the first time the RPC Conference is held in Brazil and in South America. \nThe conference is devoted to resistive plate chambers (RPCs) and related gaseous detector technologies\, with topics spanning detector performance in high-energy physics experiments\, production and quality assurance\, instrumentation techniques\, alternative gas mixtures and longevity studies\, physics and simulation\, and applied research. We believe these themes may be of interest to EPS members working on detector development\, instrumentation\, experimental physics\, and related applications. \nAbstract submission is open until 24 June 2026\, and early registration will remain open until 1 August 2026. \n 
URL:https://eps.org/event/xviii-international-conference-on-resistive-plate-chambers-and-related-detectors-rpc-2026/
LOCATION:Brazil\, Rio de Janeiro\, Rio de Janeiro\, Brazil
CATEGORIES:Special events
ATTACH;FMTTYPE=image/png:https://eps.org/wp-content/uploads/2026/03/RPC-2026.png
END:VEVENT
BEGIN:VEVENT
DTSTART;VALUE=DATE:20260921
DTEND;VALUE=DATE:20260926
DTSTAMP:20260422T015556
CREATED:20251223T143055Z
LAST-MODIFIED:20251223T143149Z
UID:13827-1789948800-1790380799@eps.org
SUMMARY:Europhoton 2026
DESCRIPTION:Dear Colleagues\, \nWe are delighted to invite you to participate in the 12th EPS-QEOD Europhoton Conference on Solid-State\, Fibre\, and Waveguide Coherent Light Sources\, which will take place from Monday\, September 21st\, to Friday\, September 25th 2026 in the beautiful Bay of Arcachon\, in southwest France. \nConference Programme\nThe conference programme will include: \n\nA one-day Summer School\, aimed at PhD students and early-career researchers\nThe main conference\, covering:\n\nSolid-State Lasers\nFibre and Waveguide Devices\n\n\nA special symposium on Photonics for Quantum\nA tabletop industrial exhibition\n\nThis unique event will highlight the latest breakthroughs in solid-state\, fibre\, and waveguide coherent light sources. World-renowned researchers will present recent advances\, complemented by Summer School lectures\, informal breakout sessions\, and dedicated networking opportunities with vendors and peers. \nThe conference will be held by the sea at the Palais des Congrès of Arcachon. \nSo Save the Date !
URL:https://eps.org/event/europhoton-2026/
LOCATION:Arcachon\, Arcachon\, France
ATTACH;FMTTYPE=image/jpeg:https://eps.org/wp-content/uploads/2025/12/europhoton-26-event.jpg
END:VEVENT
BEGIN:VEVENT
DTSTART;TZID=Europe/Paris:20260923T080000
DTEND;TZID=Europe/Paris:20260924T170000
DTSTAMP:20260422T015556
CREATED:20260410T081650Z
LAST-MODIFIED:20260410T081650Z
UID:14531-1790150400-1790269200@eps.org
SUMMARY:ICAGAC2026
DESCRIPTION:We are pleased to announce that the International Conference on Advances in Gravitation\, Astrophysics and Cosmology (ICAGAC2026) will be held on September 23-24\, 2026 in Berlin\, Germany. \nThe International Conference on Advances in Gravitation\, Astrophysics and Cosmology (ICAGAC2026) is a premier forum that brings together leading researchers\, scientists\, scholars and practitioners from around the globe. \nIt is dedicated to exploring the frontiers of gravitational physics\, astrophysics\, cosmology and related disciplines. Through an enriching mix of keynote lectures\, invited talks\, contributed oral presentations\, poster sessions and exhibitions\, The International Conference on Advances in Gravitation\, Astrophysics and Cosmology fosters rigorous scientific exchange\, collaborative networking\, and the cross-fertilization of ideas across theory\, experiment and observation. \nThis event offers a unique platform for insightful discussions\, new partnerships\, and the exchange of groundbreaking ideas. \nWe invite you to Berlin\, Germany to engage in a dynamic scientific event and contribute to the progress of astrophysical research.
URL:https://eps.org/event/icagac2026/
LOCATION:Berlin\, Germany\, Germany
CATEGORIES:Special events
ATTACH;FMTTYPE=image/jpeg:https://eps.org/wp-content/uploads/2026/04/florian-wehde-1uWanmgkd5g-unsplash-scaled.jpg
END:VEVENT
BEGIN:VEVENT
DTSTART;TZID=Europe/Paris:20260924T080000
DTEND;TZID=Europe/Paris:20260927T170000
DTSTAMP:20260422T015556
CREATED:20260216T150119Z
LAST-MODIFIED:20260216T152112Z
UID:14288-1790236800-1790528400@eps.org
SUMMARY:16th Conference of the Society of Physicists of Macedonia - CSPM 2026
DESCRIPTION:The 16th Conference of the Society of Physicists of Macedonia – CSPM 2026 will cover a wide variety of physics topics throughout the lectures and poster presentations from our contributors.  We are honoured to announce that the plenary and invited talks at CSPM 2026 will be given by renowned experts and leading scientists in their respective fields. \nOrganized by\nSociety of Physicists of Macedonia (DFRM) \nIn cooperation with:\nInstitute of Physics\nFaculty of Natural Sciences and Mathematics – Skopje\nSs. Cyril and Methodius University in Skopje\, Macedonia \n 
URL:https://eps.org/event/16th-conference-of-the-society-of-physicists-of-macedonia-cspm-2026/
LOCATION:Ohrid\, North Macedonia\, Ohrid\, North Macedonia
CATEGORIES:Special events
ATTACH;FMTTYPE=image/png:https://eps.org/wp-content/uploads/2026/02/16th-Conference-of-the-Society-of-Physicists_of_Macedonia_CSPM_24_27_September_2026_Ohrid_Macedonia.png
END:VEVENT
END:VCALENDAR