BEGIN:VCALENDAR
VERSION:2.0
PRODID:-//European Physical Society - ECPv6.15.17.1//NONSGML v1.0//EN
CALSCALE:GREGORIAN
METHOD:PUBLISH
X-WR-CALNAME:European Physical Society
X-ORIGINAL-URL:https://eps.org
X-WR-CALDESC:Events for European Physical Society
REFRESH-INTERVAL;VALUE=DURATION:PT1H
X-Robots-Tag:noindex
X-PUBLISHED-TTL:PT1H
BEGIN:VTIMEZONE
TZID:Europe/Paris
BEGIN:DAYLIGHT
TZOFFSETFROM:+0100
TZOFFSETTO:+0200
TZNAME:CEST
DTSTART:20250330T010000
END:DAYLIGHT
BEGIN:STANDARD
TZOFFSETFROM:+0200
TZOFFSETTO:+0100
TZNAME:CET
DTSTART:20251026T010000
END:STANDARD
BEGIN:DAYLIGHT
TZOFFSETFROM:+0100
TZOFFSETTO:+0200
TZNAME:CEST
DTSTART:20260329T010000
END:DAYLIGHT
BEGIN:STANDARD
TZOFFSETFROM:+0200
TZOFFSETTO:+0100
TZNAME:CET
DTSTART:20261025T010000
END:STANDARD
BEGIN:DAYLIGHT
TZOFFSETFROM:+0100
TZOFFSETTO:+0200
TZNAME:CEST
DTSTART:20270328T010000
END:DAYLIGHT
BEGIN:STANDARD
TZOFFSETFROM:+0200
TZOFFSETTO:+0100
TZNAME:CET
DTSTART:20271031T010000
END:STANDARD
END:VTIMEZONE
BEGIN:VEVENT
DTSTART;TZID=Europe/Paris:20260924T080000
DTEND;TZID=Europe/Paris:20260927T170000
DTSTAMP:20260421T230705
CREATED:20260216T150119Z
LAST-MODIFIED:20260216T152112Z
UID:14288-1790236800-1790528400@eps.org
SUMMARY:16th Conference of the Society of Physicists of Macedonia - CSPM 2026
DESCRIPTION:The 16th Conference of the Society of Physicists of Macedonia – CSPM 2026 will cover a wide variety of physics topics throughout the lectures and poster presentations from our contributors.  We are honoured to announce that the plenary and invited talks at CSPM 2026 will be given by renowned experts and leading scientists in their respective fields. \nOrganized by\nSociety of Physicists of Macedonia (DFRM) \nIn cooperation with:\nInstitute of Physics\nFaculty of Natural Sciences and Mathematics – Skopje\nSs. Cyril and Methodius University in Skopje\, Macedonia \n 
URL:https://eps.org/event/16th-conference-of-the-society-of-physicists-of-macedonia-cspm-2026/
LOCATION:Ohrid\, North Macedonia\, Ohrid\, North Macedonia
CATEGORIES:Special events
ATTACH;FMTTYPE=image/png:https://eps.org/wp-content/uploads/2026/02/16th-Conference-of-the-Society-of-Physicists_of_Macedonia_CSPM_24_27_September_2026_Ohrid_Macedonia.png
END:VEVENT
END:VCALENDAR